BEGIN:VCALENDAR
VERSION:2.0
PRODID:-//Parcs Passion - ECPv6.15.17.1//NONSGML v1.0//EN
CALSCALE:GREGORIAN
METHOD:PUBLISH
X-ORIGINAL-URL:https://parcspassion.org
X-WR-CALDESC:Évènements pour Parcs Passion
REFRESH-INTERVAL;VALUE=DURATION:PT1H
X-Robots-Tag:noindex
X-PUBLISHED-TTL:PT1H
BEGIN:VTIMEZONE
TZID:Europe/Paris
BEGIN:DAYLIGHT
TZOFFSETFROM:+0100
TZOFFSETTO:+0200
TZNAME:CEST
DTSTART:20240331T010000
END:DAYLIGHT
BEGIN:STANDARD
TZOFFSETFROM:+0200
TZOFFSETTO:+0100
TZNAME:CET
DTSTART:20241027T010000
END:STANDARD
BEGIN:DAYLIGHT
TZOFFSETFROM:+0100
TZOFFSETTO:+0200
TZNAME:CEST
DTSTART:20250330T010000
END:DAYLIGHT
BEGIN:STANDARD
TZOFFSETFROM:+0200
TZOFFSETTO:+0100
TZNAME:CET
DTSTART:20251026T010000
END:STANDARD
BEGIN:DAYLIGHT
TZOFFSETFROM:+0100
TZOFFSETTO:+0200
TZNAME:CEST
DTSTART:20260329T010000
END:DAYLIGHT
BEGIN:STANDARD
TZOFFSETFROM:+0200
TZOFFSETTO:+0100
TZNAME:CET
DTSTART:20261025T010000
END:STANDARD
END:VTIMEZONE
BEGIN:VEVENT
DTSTART;TZID=Europe/Paris:20251213T120000
DTEND;TZID=Europe/Paris:20251213T170000
DTSTAMP:20260421T171008
CREATED:20251108T142108Z
LAST-MODIFIED:20251127T144849Z
UID:10000100-1765627200-1765645200@parcspassion.org
SUMMARY:Repas de fin d'année + escape game
DESCRIPTION:L’année 2025 est déjà terminée dans les parcs saisonniers\, ce qui est synonyme pour Parcs Passion\, de vous proposer le traditionnel repas de fin d’année !…  \n\n\nCe contenu est réservé aux membres du niveau Individuelle\, Famille\, Entreprise\, et Famille (membre) uniquement.Adhérer\nAlready a member? Connectez-vous ici
URL:https://parcspassion.org/evenement/repas-de-fin-dannee-escape-game/
LOCATION:L’usine à Moissy Cramayel\, 612 Rue André Ampère\, Moissy-Cramayel\, 77550\, France
CATEGORIES:Rendez-vous
ATTACH;FMTTYPE=image/jpeg:https://parcspassion.org/wp-content/uploads/2025/11/img-eventfin2025.jpg
END:VEVENT
END:VCALENDAR