BEGIN:VCALENDAR
VERSION:2.0
PRODID:-//Parcs Passion - ECPv6.15.17.1//NONSGML v1.0//EN
CALSCALE:GREGORIAN
METHOD:PUBLISH
X-ORIGINAL-URL:https://parcspassion.org
X-WR-CALDESC:Évènements pour Parcs Passion
REFRESH-INTERVAL;VALUE=DURATION:PT1H
X-Robots-Tag:noindex
X-PUBLISHED-TTL:PT1H
BEGIN:VTIMEZONE
TZID:Europe/Paris
BEGIN:DAYLIGHT
TZOFFSETFROM:+0100
TZOFFSETTO:+0200
TZNAME:CEST
DTSTART:20200329T010000
END:DAYLIGHT
BEGIN:STANDARD
TZOFFSETFROM:+0200
TZOFFSETTO:+0100
TZNAME:CET
DTSTART:20201025T010000
END:STANDARD
BEGIN:DAYLIGHT
TZOFFSETFROM:+0100
TZOFFSETTO:+0200
TZNAME:CEST
DTSTART:20210328T010000
END:DAYLIGHT
BEGIN:STANDARD
TZOFFSETFROM:+0200
TZOFFSETTO:+0100
TZNAME:CET
DTSTART:20211031T010000
END:STANDARD
BEGIN:DAYLIGHT
TZOFFSETFROM:+0100
TZOFFSETTO:+0200
TZNAME:CEST
DTSTART:20220327T010000
END:DAYLIGHT
BEGIN:STANDARD
TZOFFSETFROM:+0200
TZOFFSETTO:+0100
TZNAME:CET
DTSTART:20221030T010000
END:STANDARD
END:VTIMEZONE
BEGIN:VEVENT
DTSTART;VALUE=DATE:20210917
DTEND;VALUE=DATE:20210920
DTSTAMP:20260422T123818
CREATED:20240613T185749Z
LAST-MODIFIED:20240705T124418Z
UID:10000078-1631836800-1632095999@parcspassion.org
SUMMARY:Week-End AIRTIME 2021 / Toverland\, Phantasialand & Bellewaerde Park
DESCRIPTION:Ca y est\, nous sommes très heureux de pouvoir à nouveau vous proposer un rendez-vous parconautique !\nPour cette occasion\, nous avons souhaité vous proposer de visiter de beaux parcs\, et sur une durée de 3 jours au lieu de 2 habituellement. \nNous nous rendrons dans 3 pays différents afin de (re)découvrir des nouveautés qui nous ont longtemps tenues en haleine. \nParmi elles\, et non des moindres\, F.L.Y. à Phantasialand que nous n’avions finalement pas pu découvrir ensemble en ce début d’année comme prévu. \nNous n’oublions pas les récents Fénix de Toverland\, ainsi que Taron à Phantasialand pour ne citer qu’eux ! \nMODIFICATION DU PROGRAMME !\nInitialement\, nous aurions dû nous rendre à Walibi Belgium la journée du dimanche. Malheureusement le parc n’aura pas réouvert à notre date à cause des importants dégâts causés par les inondations.\nLe choix de Bellewaerde Park a été fait en fonction de la législation pour l’autocar ainsi que la disponibilité des parcs.\nLe surcoût engendré par cette modification tardive est pris en charge par l’association. \nCette année marque également le retour des voyages tout compris avec le transport intégral depuis Paris\, mais aussi la période historique pendant laquelle se déroule cet événement annuel : le 3ème week-end de septembre. \n  \nLe départ de l’aéroport Roissy CDG se fera à 3h00 précises le vendredi matin.\nNous vous communiquerons l’heure de rendez-vous quelques jours avant le départ. \nLe retour à l’aéroport Roissy CDG se fera aux alentours de 22h30 le dimanche. \nATTENTION !\nLes transports en commun ne seront pas encore en service pour vous rendre au point de rendez-vous !\nVeillez à prendre vos précautions : vous garer à l’aéroport\, dormir à l’un des hôtels de l’aéroport\, ou vous y faire déposer !\n=> si vous devez prendre une nuit d’hôtel la veille\, nous vous recommandons de réserver dans un hôtel au sein du Terminal 3 de l’aéroport \nNous vous invitons à prendre vos dispositions concernant les voyages en Europe vis-à-vis de la Covid 19 et du pass sanitaire.
URL:https://parcspassion.org/evenement/week-end-airtime-2021-toverland-phantasialand-bellewaerde-park/
LOCATION:Toverland\, Toverland Toverlaan 2\,\, Sevenum\, MR\, 5975\, Pays-Bas
CATEGORIES:WEAT
ATTACH;FMTTYPE=image/jpeg:https://parcspassion.org/wp-content/uploads/2024/06/bandeauphantaa.jpg
END:VEVENT
END:VCALENDAR