BEGIN:VCALENDAR
VERSION:2.0
PRODID:-//Parcs Passion - ECPv6.15.17.1//NONSGML v1.0//EN
CALSCALE:GREGORIAN
METHOD:PUBLISH
X-ORIGINAL-URL:https://parcspassion.org
X-WR-CALDESC:Évènements pour Parcs Passion
REFRESH-INTERVAL;VALUE=DURATION:PT1H
X-Robots-Tag:noindex
X-PUBLISHED-TTL:PT1H
BEGIN:VTIMEZONE
TZID:Europe/Paris
BEGIN:DAYLIGHT
TZOFFSETFROM:+0100
TZOFFSETTO:+0200
TZNAME:CEST
DTSTART:20010325T010000
END:DAYLIGHT
BEGIN:STANDARD
TZOFFSETFROM:+0200
TZOFFSETTO:+0100
TZNAME:CET
DTSTART:20011028T010000
END:STANDARD
BEGIN:DAYLIGHT
TZOFFSETFROM:+0100
TZOFFSETTO:+0200
TZNAME:CEST
DTSTART:20020331T010000
END:DAYLIGHT
BEGIN:STANDARD
TZOFFSETFROM:+0200
TZOFFSETTO:+0100
TZNAME:CET
DTSTART:20021027T010000
END:STANDARD
BEGIN:DAYLIGHT
TZOFFSETFROM:+0100
TZOFFSETTO:+0200
TZNAME:CEST
DTSTART:20030330T010000
END:DAYLIGHT
BEGIN:STANDARD
TZOFFSETFROM:+0200
TZOFFSETTO:+0100
TZNAME:CET
DTSTART:20031026T010000
END:STANDARD
BEGIN:DAYLIGHT
TZOFFSETFROM:+0100
TZOFFSETTO:+0200
TZNAME:CEST
DTSTART:20040328T010000
END:DAYLIGHT
BEGIN:STANDARD
TZOFFSETFROM:+0200
TZOFFSETTO:+0100
TZNAME:CET
DTSTART:20041031T010000
END:STANDARD
BEGIN:DAYLIGHT
TZOFFSETFROM:+0100
TZOFFSETTO:+0200
TZNAME:CEST
DTSTART:20050327T010000
END:DAYLIGHT
BEGIN:STANDARD
TZOFFSETFROM:+0200
TZOFFSETTO:+0100
TZNAME:CET
DTSTART:20051030T010000
END:STANDARD
BEGIN:DAYLIGHT
TZOFFSETFROM:+0100
TZOFFSETTO:+0200
TZNAME:CEST
DTSTART:20060326T010000
END:DAYLIGHT
BEGIN:STANDARD
TZOFFSETFROM:+0200
TZOFFSETTO:+0100
TZNAME:CET
DTSTART:20061029T010000
END:STANDARD
BEGIN:DAYLIGHT
TZOFFSETFROM:+0100
TZOFFSETTO:+0200
TZNAME:CEST
DTSTART:20070325T010000
END:DAYLIGHT
BEGIN:STANDARD
TZOFFSETFROM:+0200
TZOFFSETTO:+0100
TZNAME:CET
DTSTART:20071028T010000
END:STANDARD
BEGIN:DAYLIGHT
TZOFFSETFROM:+0100
TZOFFSETTO:+0200
TZNAME:CEST
DTSTART:20080330T010000
END:DAYLIGHT
BEGIN:STANDARD
TZOFFSETFROM:+0200
TZOFFSETTO:+0100
TZNAME:CET
DTSTART:20081026T010000
END:STANDARD
BEGIN:DAYLIGHT
TZOFFSETFROM:+0100
TZOFFSETTO:+0200
TZNAME:CEST
DTSTART:20090329T010000
END:DAYLIGHT
BEGIN:STANDARD
TZOFFSETFROM:+0200
TZOFFSETTO:+0100
TZNAME:CET
DTSTART:20091025T010000
END:STANDARD
BEGIN:DAYLIGHT
TZOFFSETFROM:+0100
TZOFFSETTO:+0200
TZNAME:CEST
DTSTART:20100328T010000
END:DAYLIGHT
BEGIN:STANDARD
TZOFFSETFROM:+0200
TZOFFSETTO:+0100
TZNAME:CET
DTSTART:20101031T010000
END:STANDARD
BEGIN:DAYLIGHT
TZOFFSETFROM:+0100
TZOFFSETTO:+0200
TZNAME:CEST
DTSTART:20110327T010000
END:DAYLIGHT
BEGIN:STANDARD
TZOFFSETFROM:+0200
TZOFFSETTO:+0100
TZNAME:CET
DTSTART:20111030T010000
END:STANDARD
BEGIN:DAYLIGHT
TZOFFSETFROM:+0100
TZOFFSETTO:+0200
TZNAME:CEST
DTSTART:20120325T010000
END:DAYLIGHT
BEGIN:STANDARD
TZOFFSETFROM:+0200
TZOFFSETTO:+0100
TZNAME:CET
DTSTART:20121028T010000
END:STANDARD
BEGIN:DAYLIGHT
TZOFFSETFROM:+0100
TZOFFSETTO:+0200
TZNAME:CEST
DTSTART:20130331T010000
END:DAYLIGHT
BEGIN:STANDARD
TZOFFSETFROM:+0200
TZOFFSETTO:+0100
TZNAME:CET
DTSTART:20131027T010000
END:STANDARD
BEGIN:DAYLIGHT
TZOFFSETFROM:+0100
TZOFFSETTO:+0200
TZNAME:CEST
DTSTART:20140330T010000
END:DAYLIGHT
BEGIN:STANDARD
TZOFFSETFROM:+0200
TZOFFSETTO:+0100
TZNAME:CET
DTSTART:20141026T010000
END:STANDARD
BEGIN:DAYLIGHT
TZOFFSETFROM:+0100
TZOFFSETTO:+0200
TZNAME:CEST
DTSTART:20150329T010000
END:DAYLIGHT
BEGIN:STANDARD
TZOFFSETFROM:+0200
TZOFFSETTO:+0100
TZNAME:CET
DTSTART:20151025T010000
END:STANDARD
BEGIN:DAYLIGHT
TZOFFSETFROM:+0100
TZOFFSETTO:+0200
TZNAME:CEST
DTSTART:20160327T010000
END:DAYLIGHT
BEGIN:STANDARD
TZOFFSETFROM:+0200
TZOFFSETTO:+0100
TZNAME:CET
DTSTART:20161030T010000
END:STANDARD
END:VTIMEZONE
BEGIN:VEVENT
DTSTART;VALUE=DATE:20151213
DTEND;VALUE=DATE:20151214
DTSTAMP:20260419T184849
CREATED:20240613T142334Z
LAST-MODIFIED:20240705T112826Z
UID:10000061-1449964800-1450051199@parcspassion.org
SUMMARY:Noël 2015 / Disney Village
DESCRIPTION:Quoi de plus enchanteur qu’un Noël à Disneyland Paris ? Un repas de Noël avec Parcs Passion à Disney Village bien sûr ! \nVenez fêter la fin de la saison 2015 et découvrir des informations exclusives sur la saison 2016\, le tout dans un décor féerique de Noël comme Disney sait le faire. \nNous vous proposons un buffet gourmet pour le déjeuner qui se déroulera à l’hôtel New York (salle à définir en fonction du nombre de participants). \nLe buffet vous est proposé au prix de 36 € / pers (au lieu de 47\,30 € !) avec 1/2 bouteille minérale et un café\, il y en aura pour tous les goûts.
URL:https://parcspassion.org/evenement/noel-2015-disney-village/
LOCATION:Disneyland Paris\, Boulevard du Parc\, Marne La Vallée\, 77777\, France
CATEGORIES:Rendez-vous
ATTACH;FMTTYPE=image/jpeg:https://parcspassion.org/wp-content/uploads/2024/06/25274-627-25274.jpg
END:VEVENT
BEGIN:VEVENT
DTSTART;VALUE=DATE:20140712
DTEND;VALUE=DATE:20140713
DTSTAMP:20260419T184849
CREATED:20240613T131847Z
LAST-MODIFIED:20240613T131847Z
UID:10000054-1405123200-1405209599@parcspassion.org
SUMMARY:Rendez-Vous Été 2014 / Disneyland Paris
DESCRIPTION:Lorsque le parc Disneyland Paris annonce (enfin) une nouvelle attraction\, tous les regards sont braqués sur eux.\nLes quelques informations et photos qui sont divulguées ça et là n’ont fait qu’attiser notre curiosité envers cet événement qui s’appelle Ratatouille\, l’aventure totalement toquée de Rémy. \nC’est officiel ! L’attraction ouvre le jeudi 10 juillet et Parcs Passion y sera le samedi 12 juillet !\nSoyez à l’heure devant les portes du parc pour être parmi les premiers riders du jour et en attendant\, pour ceux qui n’ont pas encore vu le film d’où est inspiré l’attraction\, c’est le moment où jamais…
URL:https://parcspassion.org/evenement/rendez-vous-ete-2014-disneyland-paris/
LOCATION:Disneyland Paris\, Boulevard du Parc\, Marne La Vallée\, 77777\, France
CATEGORIES:Rendez-vous
ATTACH;FMTTYPE=image/jpeg:https://parcspassion.org/wp-content/uploads/2024/06/57-1-col.jpg
END:VEVENT
BEGIN:VEVENT
DTSTART;VALUE=DATE:20121222
DTEND;VALUE=DATE:20121223
DTSTAMP:20260419T184849
CREATED:20240613T101219Z
LAST-MODIFIED:20240705T102157Z
UID:10000045-1356134400-1356220799@parcspassion.org
SUMMARY:Noël 2012 / Disney Village
DESCRIPTION:Ca y est\, les inscriptions sont ouvertes pour le repas au Steakouse de Disney Village le samedi 22 décembre 2012. Pour les retardataires\, dépêchez-vous car les inscriptions s’arrêtent samedi soir… \nLe menu comprend entrée\, plat\, dessert et une boisson pour 30€ par personne.
URL:https://parcspassion.org/evenement/noel-2012-disney-village/
LOCATION:Disneyland Paris\, Boulevard du Parc\, Marne La Vallée\, 77777\, France
CATEGORIES:Rendez-vous
ATTACH;FMTTYPE=image/jpeg:https://parcspassion.org/wp-content/uploads/2024/06/nggallery_import/image_53f4f033453a8_20121222_141546.jpg
END:VEVENT
BEGIN:VEVENT
DTSTART;VALUE=DATE:20120114
DTEND;VALUE=DATE:20120115
DTSTAMP:20260419T184849
CREATED:20240613T133654Z
LAST-MODIFIED:20240613T133654Z
UID:10000056-1326499200-1326585599@parcspassion.org
SUMMARY:Déjeuner de Nouvel An 2012 / Empire State Lounge (Hôtels Disney)
DESCRIPTION:Déjeuner du nouvel an.
URL:https://parcspassion.org/evenement/dejeuner-de-nouvel-an-2012-empire-state-lounge-hotels-disney/
LOCATION:Disneyland Paris\, Boulevard du Parc\, Marne La Vallée\, 77777\, France
CATEGORIES:Rendez-vous
ATTACH;FMTTYPE=image/jpeg:https://parcspassion.org/wp-content/uploads/2024/06/nggallery_import/image_548f43b4915a4_14.jpg
END:VEVENT
BEGIN:VEVENT
DTSTART;VALUE=DATE:20081018
DTEND;VALUE=DATE:20081020
DTSTAMP:20260419T184849
CREATED:20240611T094358Z
LAST-MODIFIED:20240611T101909Z
UID:10000029-1224288000-1224460799@parcspassion.org
SUMMARY:Voyage 2008 / Disney's Davy Crockett Ranch
DESCRIPTION:Amis de la nature bonjour ! Parcs Passion vous convie à passer 2 jours au Ranch Davy Crockett\, un des hôtels de Disneyland Paris\, pour une nuit en bungalow. Le programme ? Accrobranche\, piscine\, karaoké\, repas et bien sûr\, une petite virée dans les parcs Disney situés juste à côté ! La forêt ça change les idées et les 29 participants ont pu profiter pleinement de ces 2 journées ! La finalité de ce week-end n’était pas les parcs mais l’envie de se retrouver ensemble dans la vraie vie\, histoire de discuter autour d’un feu de camp de la passion qui nous réuni : les parcs de loisirs. \n\n\n\n		\n				\n						\n			\n								\n			\n		\n							\n			\n				\n						\n			\n								\n			\n		\n							\n			\n				\n						\n			\n								\n			\n		\n							\n			\n				\n						\n			\n								\n			\n		\n							\n			\n				\n						\n			\n								\n			\n		\n							\n			\n				\n						\n			\n								\n			\n		\n							\n			\n				\n						\n			\n								\n			\n		\n							\n			\n				\n						\n			\n								\n			\n		\n							\n			\n				\n						\n			\n								\n			\n		\n							\n			\n				\n						\n			\n								\n			\n		\n							\n			\n				\n						\n			\n								\n			\n		\n							\n			\n				\n						\n			\n								\n			\n		\n							\n			\n				\n						\n			\n								\n			\n		\n							\n			\n				\n						\n			\n								\n			\n		\n							\n			\n				\n						\n			\n								\n			\n		\n							\n			\n				\n						\n			\n								\n			\n		\n							\n			\n				\n						\n			\n								\n			\n		\n							\n			\n				\n						\n			\n								\n			\n		\n							\n			\n				\n						\n			\n								\n			\n		\n							\n			\n				\n						\n			\n								\n			\n		\n							\n			\n				\n						\n			\n								\n			\n		\n							\n			\n				\n						\n			\n								\n			\n		\n							\n			\n				\n						\n			\n								\n			\n		\n							\n			\n				\n						\n			\n								\n			\n		\n							\n			\n	\n	\n\n	\n		\n		1\n2\n►
URL:https://parcspassion.org/evenement/voyage-2008-disneys-davy-crockett-ranch/
LOCATION:Disneyland Paris\, Boulevard du Parc\, Marne La Vallée\, 77777\, France
CATEGORIES:Voyage
ATTACH;FMTTYPE=image/jpeg:https://parcspassion.org/wp-content/uploads/2024/06/nggallery_import/image_5245f573bbde1_disney_ranch_davy_crockett_34.jpg
END:VEVENT
BEGIN:VEVENT
DTSTART;VALUE=DATE:20070121
DTEND;VALUE=DATE:20070122
DTSTAMP:20260419T184849
CREATED:20240604T145907Z
LAST-MODIFIED:20240611T103325Z
UID:10000022-1169337600-1169423999@parcspassion.org
SUMMARY:Assemblée Générale 2007 / Disney Village
DESCRIPTION:Les assemblées générales de Parcs Passion se poursuivent souvent au restaurant dans des discussions passionnées sur les parcs. Cette année\, un repas a été organisé pour officialiser cette pratique. A l’issue de l’assemblée générale\, 36 convives se retrouvèrent autour d’une bonne table. C’est l’occasion de prolonger le rendez-vous annuel de l’assemblée dans une ambiance toujours chaleureuse et sympathique. Chacun et chacune y va de son commentaire et ses attentes sur les évènements prévus en 2007. Une année un peu spéciale qui marque les 5 ans de l’association.
URL:https://parcspassion.org/evenement/assemblee-generale-2007-disney-village/
LOCATION:Disneyland Paris\, Boulevard du Parc\, Marne La Vallée\, 77777\, France
CATEGORIES:Rendez-vous
ATTACH;FMTTYPE=image/jpeg:https://parcspassion.org/wp-content/uploads/2024/06/nggallery_import/image_5245f557e53ba_jennifer_mickey.jpg
END:VEVENT
BEGIN:VEVENT
DTSTART;VALUE=DATE:20060122
DTEND;VALUE=DATE:20060123
DTSTAMP:20260419T184849
CREATED:20240604T143316Z
LAST-MODIFIED:20240604T143316Z
UID:10000019-1137888000-1137974399@parcspassion.org
SUMMARY:Assemblée Générale 2006 / Disney Village
DESCRIPTION:Venez prendre des nouvelles de votre association lors de la traditionnelle Assemblée Générale de début d’année. C’est toujours l’occasion de se revoir après une période hivernale calme et c’est le bon moment pour poser toutes vos questions. Alors\, n’hésitez pas !
URL:https://parcspassion.org/evenement/assemblee-generale-2006-disney-village/
LOCATION:Disneyland Paris\, Boulevard du Parc\, Marne La Vallée\, 77777\, France
CATEGORIES:Rendez-vous
END:VEVENT
BEGIN:VEVENT
DTSTART;VALUE=DATE:20041219
DTEND;VALUE=DATE:20041220
DTSTAMP:20260419T184849
CREATED:20240604T130218Z
LAST-MODIFIED:20240604T130218Z
UID:10000014-1103414400-1103500799@parcspassion.org
SUMMARY:Noël 2004 / Disney Village
DESCRIPTION:Notre traditionnel repas de Noël à Disney Village. Venez nombreux partager l’ambiance de Noël !
URL:https://parcspassion.org/evenement/noel-2004-disney-village/
LOCATION:Disneyland Paris\, Boulevard du Parc\, Marne La Vallée\, 77777\, France
CATEGORIES:Rendez-vous
END:VEVENT
BEGIN:VEVENT
DTSTART;VALUE=DATE:20031221
DTEND;VALUE=DATE:20031222
DTSTAMP:20260419T184849
CREATED:20240604T100232Z
LAST-MODIFIED:20240611T104921Z
UID:10000008-1071964800-1072051199@parcspassion.org
SUMMARY:Noël 2003 / Disney Village
DESCRIPTION:Quoi de mieux pour clôturer l’année en beauté que de réunir les adhérents de l’association autour d’un excellent repas au Steackhouse du Disney Village ? 36 convives ont ainsi partagé un magnifique buffet et auront même pu s’essayer au gonflage de ballons avec l’aide d’un “professionnel” ! Bonne humeur et bon appétit auront réuni nos adhérents jeunes et moins jeunes.
URL:https://parcspassion.org/evenement/noel-2003-disney-village/
LOCATION:Disneyland Paris\, Boulevard du Parc\, Marne La Vallée\, 77777\, France
CATEGORIES:Rendez-vous
ATTACH;FMTTYPE=image/jpeg:https://parcspassion.org/wp-content/uploads/2024/06/nggallery_import/image_5245f5229b696_eloise.jpg
END:VEVENT
BEGIN:VEVENT
DTSTART;VALUE=DATE:20030323
DTEND;VALUE=DATE:20030324
DTSTAMP:20260419T184849
CREATED:20240602T140715Z
LAST-MODIFIED:20240602T150752Z
UID:10000005-1048377600-1048463999@parcspassion.org
SUMMARY:Repas 2003 / Disney Village
DESCRIPTION:Ce soir là nous avons vu défiler pour la dernière fois la Main Street Electrical Parade. Cet ultime passage fut l’occasion pour l’association d’organiser une rencontre avec M. Jean-Jacques Perrey\, le compositeur dont Disney s’est inspiré pour la suite musicale de la parade. Plus de 30 personnes ont participé à ce repas où la star\, Jean-Jacques Perrey\, s’est donné avec beaucoup de bonne volonté aux photos souvenirs\, autographes et autres toasts à la parade qui aura accompagné les soirées de parc Disneyland pendant 11 ans…
URL:https://parcspassion.org/evenement/repas-2003-disney-village/
LOCATION:Disneyland Paris\, Boulevard du Parc\, Marne La Vallée\, 77777\, France
CATEGORIES:Rendez-vous
ATTACH;FMTTYPE=image/jpeg:https://parcspassion.org/wp-content/uploads/2024/06/nggallery_import/image_5245f52406766_mickey_et_louis_gabriel.jpg
END:VEVENT
BEGIN:VEVENT
DTSTART;VALUE=DATE:20021222
DTEND;VALUE=DATE:20021223
DTSTAMP:20260419T184849
CREATED:20240602T134820Z
LAST-MODIFIED:20240602T144953Z
UID:10000004-1040515200-1040601599@parcspassion.org
SUMMARY:Noël 2002 / Disney Village
DESCRIPTION:L’association s’est réunie le 22 décembre au Steackhouse du Disney Village à l’occasion des fêtes de Noël. Nous avons pu profiter\, dans une ambiance très chaleureuse\, d’un fabuleux brunch où les buffets étaient approvisionnés en quantités impressionnantes. Saumon\, crevettes\, grillades\, pâtisseries délicieuses et boissons\, nous ne savions que choisir ! Accompagné par des personnages comme Dingo ou Tigrou\, les adhérents ont pu échanger leur avis sur le resort parisien. L’ambiance était à la bonne humeur et à Noël !
URL:https://parcspassion.org/evenement/noel-2002-disney-village/
LOCATION:Disneyland Paris\, Boulevard du Parc\, Marne La Vallée\, 77777\, France
CATEGORIES:Rendez-vous
ATTACH;FMTTYPE=image/jpeg:https://parcspassion.org/wp-content/uploads/2024/06/nggallery_import/image_5245f521e1ec4_noel2002_dingo.jpg
END:VEVENT
BEGIN:VEVENT
DTSTART;VALUE=DATE:20020610
DTEND;VALUE=DATE:20020611
DTSTAMP:20260419T184849
CREATED:20240602T133410Z
LAST-MODIFIED:20240602T134008Z
UID:10000003-1023667200-1023753599@parcspassion.org
SUMMARY:Repas 2002 / Disney Village
DESCRIPTION:Repas au Buffalo Bill’s Wild West Show de Disney Village.
URL:https://parcspassion.org/evenement/repas-2002-disney-village/
LOCATION:Disneyland Paris\, Boulevard du Parc\, Marne La Vallée\, 77777\, France
CATEGORIES:Rendez-vous
END:VEVENT
BEGIN:VEVENT
DTSTART;VALUE=DATE:20020610
DTEND;VALUE=DATE:20020611
DTSTAMP:20260419T184849
CREATED:20240602T132723Z
LAST-MODIFIED:20240602T132723Z
UID:10000002-1023667200-1023753599@parcspassion.org
SUMMARY:Rendez-Vous 2002 / Disneyland Paris
DESCRIPTION:Quiz Rallye de Catula dans Disneyland Paris !
URL:https://parcspassion.org/evenement/rendez-vous-2002-disneyland-paris/
LOCATION:Disneyland Paris\, Boulevard du Parc\, Marne La Vallée\, 77777\, France
CATEGORIES:Rendez-vous
END:VEVENT
END:VCALENDAR