BEGIN:VCALENDAR
VERSION:2.0
PRODID:-//Parcs Passion - ECPv6.15.17.1//NONSGML v1.0//EN
CALSCALE:GREGORIAN
METHOD:PUBLISH
X-ORIGINAL-URL:https://parcspassion.org
X-WR-CALDESC:Évènements pour Parcs Passion
REFRESH-INTERVAL;VALUE=DURATION:PT1H
X-Robots-Tag:noindex
X-PUBLISHED-TTL:PT1H
BEGIN:VTIMEZONE
TZID:Europe/Paris
BEGIN:DAYLIGHT
TZOFFSETFROM:+0100
TZOFFSETTO:+0200
TZNAME:CEST
DTSTART:20020331T010000
END:DAYLIGHT
BEGIN:STANDARD
TZOFFSETFROM:+0200
TZOFFSETTO:+0100
TZNAME:CET
DTSTART:20021027T010000
END:STANDARD
BEGIN:DAYLIGHT
TZOFFSETFROM:+0100
TZOFFSETTO:+0200
TZNAME:CEST
DTSTART:20030330T010000
END:DAYLIGHT
BEGIN:STANDARD
TZOFFSETFROM:+0200
TZOFFSETTO:+0100
TZNAME:CET
DTSTART:20031026T010000
END:STANDARD
BEGIN:DAYLIGHT
TZOFFSETFROM:+0100
TZOFFSETTO:+0200
TZNAME:CEST
DTSTART:20040328T010000
END:DAYLIGHT
BEGIN:STANDARD
TZOFFSETFROM:+0200
TZOFFSETTO:+0100
TZNAME:CET
DTSTART:20041031T010000
END:STANDARD
BEGIN:DAYLIGHT
TZOFFSETFROM:+0100
TZOFFSETTO:+0200
TZNAME:CEST
DTSTART:20050327T010000
END:DAYLIGHT
BEGIN:STANDARD
TZOFFSETFROM:+0200
TZOFFSETTO:+0100
TZNAME:CET
DTSTART:20051030T010000
END:STANDARD
BEGIN:DAYLIGHT
TZOFFSETFROM:+0100
TZOFFSETTO:+0200
TZNAME:CEST
DTSTART:20060326T010000
END:DAYLIGHT
BEGIN:STANDARD
TZOFFSETFROM:+0200
TZOFFSETTO:+0100
TZNAME:CET
DTSTART:20061029T010000
END:STANDARD
BEGIN:DAYLIGHT
TZOFFSETFROM:+0100
TZOFFSETTO:+0200
TZNAME:CEST
DTSTART:20070325T010000
END:DAYLIGHT
BEGIN:STANDARD
TZOFFSETFROM:+0200
TZOFFSETTO:+0100
TZNAME:CET
DTSTART:20071028T010000
END:STANDARD
BEGIN:DAYLIGHT
TZOFFSETFROM:+0100
TZOFFSETTO:+0200
TZNAME:CEST
DTSTART:20080330T010000
END:DAYLIGHT
BEGIN:STANDARD
TZOFFSETFROM:+0200
TZOFFSETTO:+0100
TZNAME:CET
DTSTART:20081026T010000
END:STANDARD
BEGIN:DAYLIGHT
TZOFFSETFROM:+0100
TZOFFSETTO:+0200
TZNAME:CEST
DTSTART:20090329T010000
END:DAYLIGHT
BEGIN:STANDARD
TZOFFSETFROM:+0200
TZOFFSETTO:+0100
TZNAME:CET
DTSTART:20091025T010000
END:STANDARD
BEGIN:DAYLIGHT
TZOFFSETFROM:+0100
TZOFFSETTO:+0200
TZNAME:CEST
DTSTART:20100328T010000
END:DAYLIGHT
BEGIN:STANDARD
TZOFFSETFROM:+0200
TZOFFSETTO:+0100
TZNAME:CET
DTSTART:20101031T010000
END:STANDARD
BEGIN:DAYLIGHT
TZOFFSETFROM:+0100
TZOFFSETTO:+0200
TZNAME:CEST
DTSTART:20110327T010000
END:DAYLIGHT
BEGIN:STANDARD
TZOFFSETFROM:+0200
TZOFFSETTO:+0100
TZNAME:CET
DTSTART:20111030T010000
END:STANDARD
BEGIN:DAYLIGHT
TZOFFSETFROM:+0100
TZOFFSETTO:+0200
TZNAME:CEST
DTSTART:20120325T010000
END:DAYLIGHT
BEGIN:STANDARD
TZOFFSETFROM:+0200
TZOFFSETTO:+0100
TZNAME:CET
DTSTART:20121028T010000
END:STANDARD
BEGIN:DAYLIGHT
TZOFFSETFROM:+0100
TZOFFSETTO:+0200
TZNAME:CEST
DTSTART:20130331T010000
END:DAYLIGHT
BEGIN:STANDARD
TZOFFSETFROM:+0200
TZOFFSETTO:+0100
TZNAME:CET
DTSTART:20131027T010000
END:STANDARD
BEGIN:DAYLIGHT
TZOFFSETFROM:+0100
TZOFFSETTO:+0200
TZNAME:CEST
DTSTART:20140330T010000
END:DAYLIGHT
BEGIN:STANDARD
TZOFFSETFROM:+0200
TZOFFSETTO:+0100
TZNAME:CET
DTSTART:20141026T010000
END:STANDARD
BEGIN:DAYLIGHT
TZOFFSETFROM:+0100
TZOFFSETTO:+0200
TZNAME:CEST
DTSTART:20150329T010000
END:DAYLIGHT
BEGIN:STANDARD
TZOFFSETFROM:+0200
TZOFFSETTO:+0100
TZNAME:CET
DTSTART:20151025T010000
END:STANDARD
BEGIN:DAYLIGHT
TZOFFSETFROM:+0100
TZOFFSETTO:+0200
TZNAME:CEST
DTSTART:20160327T010000
END:DAYLIGHT
BEGIN:STANDARD
TZOFFSETFROM:+0200
TZOFFSETTO:+0100
TZNAME:CET
DTSTART:20161030T010000
END:STANDARD
END:VTIMEZONE
BEGIN:VEVENT
DTSTART;VALUE=DATE:20150404
DTEND;VALUE=DATE:20150405
DTSTAMP:20260420T033108
CREATED:20240613T134311Z
LAST-MODIFIED:20240705T112136Z
UID:10000057-1428105600-1428191999@parcspassion.org
SUMMARY:Assemblée Générale 2015 / Holiday Park
DESCRIPTION:Une Assemblée Générale et un petit tour sur (bigFM) Expedition GeForce\, ça vous tente ? Avis également aux personnes ayant le cœur bien accroché (et surtout rien dans les poches !) avec leur nouveauté 2014\, Sky Scream … \nNon\, vous ne rêvez pas\, c’est bien à Holiday Park que nous vous emmenons pour notre journée du samedi 4 avril ! \nNous y ferons notre réunion d’Assemblée Générale avec le classique bilan de la saison dernière et bien sûr des informations pour la saison à venir.\nLe reste de la journée sera\, comme d’habitude\, totalement libre sur le parc.
URL:https://parcspassion.org/evenement/assemblee-generale-2015-holiday-park/
LOCATION:Holiday Park\, Holiday-Park-Straße 1-5\, Hassloch/Pfalz\, 67454\, Allemagne
CATEGORIES:Rendez-vous
ATTACH;FMTTYPE=image/jpeg:https://parcspassion.org/wp-content/uploads/2024/06/holidayPark.jpg
END:VEVENT
BEGIN:VEVENT
DTSTART;VALUE=DATE:20030927
DTEND;VALUE=DATE:20030929
DTSTAMP:20260420T033108
CREATED:20240602T141839Z
LAST-MODIFIED:20240611T105040Z
UID:10000007-1064620800-1064793599@parcspassion.org
SUMMARY:Week-End AIRTIME 2003 / Europa Park et Holiday Park
DESCRIPTION:On a loué un bus\, prévu 2 parcs en 2 jours\, 1 dîner dans une auberge alsacienne et toute cela sans savoir combien on allait être. Comme toujours\, on a eu de la chance et on est parti à l’heure pour arriver à l’heure. Ce fut le premier voyage sous le concept de Week-End AIRTIME qui est devenu au fil des éditions un rendez-vous important pour tous les adhérents de l’association. Au programme de ce cru 2003 : tout simplement les plus beaux sommets d’Europe du moment avec Silverstar (Europa Park\, Rust) et Expedition GeForce (Holiday Park\, Hassloch). Autrement dit\, un véritable rêve éveillé pour tous les amateurs de coasters !
URL:https://parcspassion.org/evenement/week-end-airtime-2003-europa-park-et-holiday-park/
LOCATION:Europa Park\, Europa-Park-Straße 2\, Rust\, 77977\, Allemagne
CATEGORIES:WEAT
ATTACH;FMTTYPE=image/jpeg:https://parcspassion.org/wp-content/uploads/2024/06/nggallery_import/image_5245f52993eec_first_drop_silverstar.jpg
END:VEVENT
END:VCALENDAR