BEGIN:VCALENDAR
VERSION:2.0
PRODID:-//Parcs Passion - ECPv6.15.17.1//NONSGML v1.0//EN
CALSCALE:GREGORIAN
METHOD:PUBLISH
X-WR-CALNAME:Parcs Passion
X-ORIGINAL-URL:https://parcspassion.org
X-WR-CALDESC:Évènements pour Parcs Passion
REFRESH-INTERVAL;VALUE=DURATION:PT1H
X-Robots-Tag:noindex
X-PUBLISHED-TTL:PT1H
BEGIN:VTIMEZONE
TZID:Europe/Paris
BEGIN:DAYLIGHT
TZOFFSETFROM:+0100
TZOFFSETTO:+0200
TZNAME:CEST
DTSTART:20110327T010000
END:DAYLIGHT
BEGIN:STANDARD
TZOFFSETFROM:+0200
TZOFFSETTO:+0100
TZNAME:CET
DTSTART:20111030T010000
END:STANDARD
BEGIN:DAYLIGHT
TZOFFSETFROM:+0100
TZOFFSETTO:+0200
TZNAME:CEST
DTSTART:20120325T010000
END:DAYLIGHT
BEGIN:STANDARD
TZOFFSETFROM:+0200
TZOFFSETTO:+0100
TZNAME:CET
DTSTART:20121028T010000
END:STANDARD
BEGIN:DAYLIGHT
TZOFFSETFROM:+0100
TZOFFSETTO:+0200
TZNAME:CEST
DTSTART:20130331T010000
END:DAYLIGHT
BEGIN:STANDARD
TZOFFSETFROM:+0200
TZOFFSETTO:+0100
TZNAME:CET
DTSTART:20131027T010000
END:STANDARD
END:VTIMEZONE
BEGIN:VEVENT
DTSTART;VALUE=DATE:20120815
DTEND;VALUE=DATE:20120901
DTSTAMP:20260421T205420
CREATED:20240612T124813Z
LAST-MODIFIED:20240705T102011Z
UID:10000043-1344988800-1346457599@parcspassion.org
SUMMARY:Hyper-Méga AIRTIME 2012 / USA
DESCRIPTION:Pour célébrer les 10 ans de l’association\, Parcs Passion vous convie à l’AIRTIME ultime : un périple à travers le nord-est des USA avec pour point final Cedar Point. Tenez-vous bien … voici le programme ! \nMercredi 15 août 2012 : 10h45 : Envol pour Atlanta. 16h40 : Décollage d’Atlanta pour Richmond et atterrissage prévu pour 18h20. Le voyage commence ! \nJeudi 16 : Journée au parc Busch Gardens de Williamsburg. \nVendredi 17 : Journée au parc Kings Dominion. \nSamedi 18 : Visite guidée en bus de Washington le matin. Après-midi libre avec possibilité de visiter les musées : American History Museum\, Natural History Museum\, National Gallery of Art\, American Indian Museum\, Sea & Space Museum\, Hishhorn Museum\, … dont l’entrée est gratuite. Seul l’aquarium est payant. \nDimanche 19 : Journée au parc Six Flags Great Adventure à Jackson. \nLundi 20 : Matinée au parc Lake Compounce puis après-midi et soirée au parc Six Flags New England à Agawam. \nMardi 21 : Matinée au parc Quassy Amusement puis après-midi et soirée libre dans New-York. Ceux qui le souhaitent peuvent aller voir une comédie musicale à Broadway ! Nuit dans un hôtel dans la 8ème Avenue\, rien que ça. \nMercredi 22 : Journée libre dans New-York. \nJeudi 23 : Journée à Dorney Park. \nVendredi 24 : Journée au parc Knoebels Amusement. \nSamedi 25 : Journée à Hersheypark. \nDimanche 26 : Matinée libre dans Pittsburgh puis après-midi et soirée au parc Kennywood. \nLundi 27 : Matinée libre dans Cleveland.Visite guidée des reliques de l’ancien parc d’attractions de Cleveland l’après-midi : Euclid Beach Park. \nMardi 28 : Première journée au parc Cedar Point. \nMercredi 29 : Deuxième journée à Cedar Point. \nJeudi 30 : Transfert vers l’aéroport de Cleveland et décollage pour Atlanta. 21h10 : Envol d’Atlanta pour la France. \nVendredi 31 : Atterrissage vers 11h35 sur le tarmac de Charles de Gaulle. \nA noter que plusieurs de ces parcs possèdent des centres aquatiques. N’oubliez pas vos maillots de bain ! \n \n  \n\n\n\n		\n				\n						\n			\n								\n			\n		\n							\n			\n				\n						\n			\n								\n			\n		\n							\n			\n				\n						\n			\n								\n			\n		\n							\n			\n				\n						\n			\n								\n			\n		\n							\n			\n				\n						\n			\n								\n			\n		\n							\n			\n				\n						\n			\n								\n			\n		\n							\n			\n				\n						\n			\n								\n			\n		\n							\n			\n				\n						\n			\n								\n			\n		\n							\n			\n				\n						\n			\n								\n			\n		\n							\n			\n				\n						\n			\n								\n			\n		\n							\n			\n				\n						\n			\n								\n			\n		\n							\n			\n				\n						\n			\n								\n			\n		\n							\n			\n				\n						\n			\n								\n			\n		\n							\n			\n				\n						\n			\n								\n			\n		\n							\n			\n				\n						\n			\n								\n			\n		\n							\n			\n				\n						\n			\n								\n			\n		\n							\n			\n				\n						\n			\n								\n			\n		\n							\n			\n				\n						\n			\n								\n			\n		\n							\n			\n				\n						\n			\n								\n			\n		\n							\n			\n				\n						\n			\n								\n			\n		\n							\n			\n				\n						\n			\n								\n			\n		\n							\n			\n				\n						\n			\n								\n			\n		\n							\n			\n				\n						\n			\n								\n			\n		\n							\n			\n				\n						\n			\n								\n			\n		\n							\n			\n	\n	\n\n	\n		\n		1\n2\n...\n11\n►
URL:https://parcspassion.org/evenement/hyper-mega-airtime-2012-usa/
LOCATION:Busch Gardens Williamsburg\, 1 Busch Gardens Blvd\, Williamsburg\, VA\, 23185\, USA
CATEGORIES:Voyage,WEAT
ATTACH;FMTTYPE=image/jpeg:https://parcspassion.org/wp-content/uploads/2024/06/nggallery_import/image_53f4fe31ec229_dsc08334.jpg
END:VEVENT
END:VCALENDAR