BEGIN:VCALENDAR
VERSION:2.0
PRODID:-//Parcs Passion - ECPv6.15.17.1//NONSGML v1.0//EN
CALSCALE:GREGORIAN
METHOD:PUBLISH
X-WR-CALNAME:Parcs Passion
X-ORIGINAL-URL:https://parcspassion.org
X-WR-CALDESC:Évènements pour Parcs Passion
REFRESH-INTERVAL;VALUE=DURATION:PT1H
X-Robots-Tag:noindex
X-PUBLISHED-TTL:PT1H
BEGIN:VTIMEZONE
TZID:Europe/Paris
BEGIN:DAYLIGHT
TZOFFSETFROM:+0100
TZOFFSETTO:+0200
TZNAME:CEST
DTSTART:20080330T010000
END:DAYLIGHT
BEGIN:STANDARD
TZOFFSETFROM:+0200
TZOFFSETTO:+0100
TZNAME:CET
DTSTART:20081026T010000
END:STANDARD
BEGIN:DAYLIGHT
TZOFFSETFROM:+0100
TZOFFSETTO:+0200
TZNAME:CEST
DTSTART:20090329T010000
END:DAYLIGHT
BEGIN:STANDARD
TZOFFSETFROM:+0200
TZOFFSETTO:+0100
TZNAME:CET
DTSTART:20091025T010000
END:STANDARD
BEGIN:DAYLIGHT
TZOFFSETFROM:+0100
TZOFFSETTO:+0200
TZNAME:CEST
DTSTART:20100328T010000
END:DAYLIGHT
BEGIN:STANDARD
TZOFFSETFROM:+0200
TZOFFSETTO:+0100
TZNAME:CET
DTSTART:20101031T010000
END:STANDARD
BEGIN:DAYLIGHT
TZOFFSETFROM:+0100
TZOFFSETTO:+0200
TZNAME:CEST
DTSTART:20110327T010000
END:DAYLIGHT
BEGIN:STANDARD
TZOFFSETFROM:+0200
TZOFFSETTO:+0100
TZNAME:CET
DTSTART:20111030T010000
END:STANDARD
BEGIN:DAYLIGHT
TZOFFSETFROM:+0100
TZOFFSETTO:+0200
TZNAME:CEST
DTSTART:20120325T010000
END:DAYLIGHT
BEGIN:STANDARD
TZOFFSETFROM:+0200
TZOFFSETTO:+0100
TZNAME:CET
DTSTART:20121028T010000
END:STANDARD
BEGIN:DAYLIGHT
TZOFFSETFROM:+0100
TZOFFSETTO:+0200
TZNAME:CEST
DTSTART:20130331T010000
END:DAYLIGHT
BEGIN:STANDARD
TZOFFSETFROM:+0200
TZOFFSETTO:+0100
TZNAME:CET
DTSTART:20131027T010000
END:STANDARD
BEGIN:DAYLIGHT
TZOFFSETFROM:+0100
TZOFFSETTO:+0200
TZNAME:CEST
DTSTART:20140330T010000
END:DAYLIGHT
BEGIN:STANDARD
TZOFFSETFROM:+0200
TZOFFSETTO:+0100
TZNAME:CET
DTSTART:20141026T010000
END:STANDARD
BEGIN:DAYLIGHT
TZOFFSETFROM:+0100
TZOFFSETTO:+0200
TZNAME:CEST
DTSTART:20150329T010000
END:DAYLIGHT
BEGIN:STANDARD
TZOFFSETFROM:+0200
TZOFFSETTO:+0100
TZNAME:CET
DTSTART:20151025T010000
END:STANDARD
BEGIN:DAYLIGHT
TZOFFSETFROM:+0100
TZOFFSETTO:+0200
TZNAME:CEST
DTSTART:20160327T010000
END:DAYLIGHT
BEGIN:STANDARD
TZOFFSETFROM:+0200
TZOFFSETTO:+0100
TZNAME:CET
DTSTART:20161030T010000
END:STANDARD
BEGIN:DAYLIGHT
TZOFFSETFROM:+0100
TZOFFSETTO:+0200
TZNAME:CEST
DTSTART:20170326T010000
END:DAYLIGHT
BEGIN:STANDARD
TZOFFSETFROM:+0200
TZOFFSETTO:+0100
TZNAME:CET
DTSTART:20171029T010000
END:STANDARD
BEGIN:DAYLIGHT
TZOFFSETFROM:+0100
TZOFFSETTO:+0200
TZNAME:CEST
DTSTART:20180325T010000
END:DAYLIGHT
BEGIN:STANDARD
TZOFFSETFROM:+0200
TZOFFSETTO:+0100
TZNAME:CET
DTSTART:20181028T010000
END:STANDARD
BEGIN:DAYLIGHT
TZOFFSETFROM:+0100
TZOFFSETTO:+0200
TZNAME:CEST
DTSTART:20190331T010000
END:DAYLIGHT
BEGIN:STANDARD
TZOFFSETFROM:+0200
TZOFFSETTO:+0100
TZNAME:CET
DTSTART:20191027T010000
END:STANDARD
BEGIN:DAYLIGHT
TZOFFSETFROM:+0100
TZOFFSETTO:+0200
TZNAME:CEST
DTSTART:20200329T010000
END:DAYLIGHT
BEGIN:STANDARD
TZOFFSETFROM:+0200
TZOFFSETTO:+0100
TZNAME:CET
DTSTART:20201025T010000
END:STANDARD
BEGIN:DAYLIGHT
TZOFFSETFROM:+0100
TZOFFSETTO:+0200
TZNAME:CEST
DTSTART:20210328T010000
END:DAYLIGHT
BEGIN:STANDARD
TZOFFSETFROM:+0200
TZOFFSETTO:+0100
TZNAME:CET
DTSTART:20211031T010000
END:STANDARD
BEGIN:DAYLIGHT
TZOFFSETFROM:+0100
TZOFFSETTO:+0200
TZNAME:CEST
DTSTART:20220327T010000
END:DAYLIGHT
BEGIN:STANDARD
TZOFFSETFROM:+0200
TZOFFSETTO:+0100
TZNAME:CET
DTSTART:20221030T010000
END:STANDARD
BEGIN:DAYLIGHT
TZOFFSETFROM:+0100
TZOFFSETTO:+0200
TZNAME:CEST
DTSTART:20230326T010000
END:DAYLIGHT
BEGIN:STANDARD
TZOFFSETFROM:+0200
TZOFFSETTO:+0100
TZNAME:CET
DTSTART:20231029T010000
END:STANDARD
BEGIN:DAYLIGHT
TZOFFSETFROM:+0100
TZOFFSETTO:+0200
TZNAME:CEST
DTSTART:20240331T010000
END:DAYLIGHT
BEGIN:STANDARD
TZOFFSETFROM:+0200
TZOFFSETTO:+0100
TZNAME:CET
DTSTART:20241027T010000
END:STANDARD
BEGIN:DAYLIGHT
TZOFFSETFROM:+0100
TZOFFSETTO:+0200
TZNAME:CEST
DTSTART:20250330T010000
END:DAYLIGHT
BEGIN:STANDARD
TZOFFSETFROM:+0200
TZOFFSETTO:+0100
TZNAME:CET
DTSTART:20251026T010000
END:STANDARD
BEGIN:DAYLIGHT
TZOFFSETFROM:+0100
TZOFFSETTO:+0200
TZNAME:CEST
DTSTART:20260329T010000
END:DAYLIGHT
BEGIN:STANDARD
TZOFFSETFROM:+0200
TZOFFSETTO:+0100
TZNAME:CET
DTSTART:20261025T010000
END:STANDARD
END:VTIMEZONE
BEGIN:VEVENT
DTSTART;VALUE=DATE:20250609
DTEND;VALUE=DATE:20250614
DTSTAMP:20260419T143220
CREATED:20250121T003130Z
LAST-MODIFIED:20250429T180626Z
UID:10000099-1749427200-1749859199@parcspassion.org
SUMMARY:WEAT Italien 2025
DESCRIPTION:Parcs Passion vous emmène en Italie\ndu lundi 09 au vendredi 13 juin 2025\n  \n  \nVenez (re)découvrir MIRABILANDIA avec ses légendaires Katun et Ispeed pour une première journée Italienne palpitante !\n                                               \nSuivront GARDALAND où Oblivion et Raptor seront de la partie\,\n                                        \nainsi que le parc atypique du séjour : MOVIELAND PARK et ses attractions toutes plus folles les unes que les autres !\n \n  \nPour finir\, nous visiterons LEOLANDIA MINITALIA\, petit parc partenaire de Parcs Passion depuis 2024 et sur la route de l’aéroport de Milan\, d’où nous repartirons.\n \n \nNous bénéficierons également d’une visite guidée et personnalisée de l’usine ZAMPERLA.\n \n  \n  \nNous vous proposons ce séjour des plus complets pour 995 euros :\n\nDétail du tarif d’inscription : \n\nVols avec Air France en multidestinations (1 bagage en soute de 23 kg + 1 bagage à main de 12 kg inclus)\n\nVol aller du lundi 09 juin 2025 : AF1228 depuis Paris CDG (07h10) à destination de Bologne (arrivée à 8h50)\nVol retour du vendredi 13 juin 2025 : AF1313 depuis Milan Linate (LIN) à 20h35\, à destination de Paris CDG (arrivée à 22h05)\n\n\n\nLe billet d’avion (en option) est inclus dans le tarif de 995 €\, valable pour une inscription jusqu’au 07 mars (15 places max disponibles). \nLes places restantes n’incluent pas le vol\, vous devrez réserver vous-mêmes votre transport jusqu’à Bologne et depuis Milan. \nAttention : vous devrez être à l’aéroport de Bologne au même horaire que nous. (prise en charge par un autocar privé à horaire fixe). \n  \n\nLes entrées aux 4 parcs du séjour (Mirabilandia\, Gardaland\, Movie Park et Léolandia)\nVisite guidée de l’usine ZAMPERLA durant le trajet entre Mirabilandia et Gardaland\nLes 4 nuits en hôtels 4* en chambre double (2 lits simples) dont 2 nuits à l’hôtel de Gardaland\nLes petits-déjeuners\n\n      (Nuit du 09 au 10 juin : HOTEL ADRIA ; Nuits du 10 au 12 juin : GARDALAND HOTEL ; Nuit du 12 au 13 juin : NOVOTEL BRESCIA 2) \n\n3 dîners inclus aux hôtels les soirs des 10\, 11 et 12 juin.\nTransport sur place exclusivement en autocar privé\n\n  \nPossibilités de règlement : \n\n\n\npar carte bancaire (séjour complet en 1 fois uniquement)\npar virement bancaire en 1\, 2 ou 3 fois sans frais (les deux formules du séjour).\n\n\n\nLes membres possédant un avoir de l’Emirats’Airtime\, veuillez svp nous contacter par mail pour la régularisation. \n  \nL’inscription à nos événements est réservée à nos adhérents. \nPOUR ACCEDER AUX RESERVATIONS\, VOUS DEVEZ VOUS CONNECTER A VOTRE COMPTE OU ADHERER A L’ASSOCIATION. \n \n \nN’hésitez plus\, rejoignez-nous pour un nouveau WEAT de folie !!\n 
URL:https://parcspassion.org/evenement/weat-italien-2025/
LOCATION:Mirabilandia\, Strada Statale 16 Adriatica\, km 162\, Savio\, 48125\, Italie
CATEGORIES:WEAT
ATTACH;FMTTYPE=image/jpeg:https://parcspassion.org/wp-content/uploads/2025/01/visuel-italie-1.jpg
END:VEVENT
BEGIN:VEVENT
DTSTART;VALUE=DATE:20090824
DTEND;VALUE=DATE:20090830
DTSTAMP:20260419T143220
CREATED:20240611T140417Z
LAST-MODIFIED:20240705T100439Z
UID:10000033-1251072000-1251590399@parcspassion.org
SUMMARY:Week-End AIRTIME 2009 / Gardaland\, Movieland Studios et Mirabilandia
DESCRIPTION:Pour sa 7ème édition\, AIRTIME 2009 met les petits plats dans les grands. Le Week-End AIRTIME se transforme en Semaine AIRTIME. \n\n+ de jours\n+ de parcs\n+ de coasters\n+ de fun\n+ de surprises\n\nLa plus belle semaine de l’année sera bien la semaine AIRTIME 2009 du 24/08/09 au 29/08/09 en ITALIE. Le contenu d’AIRTIME 2009 sera en ligne sur le site « Parcs Passion » le dimanche 11 janvier 2009. De plus\, nous vous présenterons les détails de ce voyage lors de l’Assemblée Générale qui se tiendra le 25 janvier 2009. \nAttention le voyage débute le dimanche 11 janvier avec … votre inscription ! \n\n\n\n		\n				\n						\n			\n								\n			\n		\n							\n			\n				\n						\n			\n								\n			\n		\n							\n			\n				\n						\n			\n								\n			\n		\n							\n			\n				\n						\n			\n								\n			\n		\n							\n			\n				\n						\n			\n								\n			\n		\n							\n			\n				\n						\n			\n								\n			\n		\n							\n			\n				\n						\n			\n								\n			\n		\n							\n			\n				\n						\n			\n								\n			\n		\n							\n			\n				\n						\n			\n								\n			\n		\n							\n			\n				\n						\n			\n								\n			\n		\n							\n			\n				\n						\n			\n								\n			\n		\n							\n			\n				\n						\n			\n								\n			\n		\n							\n			\n				\n						\n			\n								\n			\n		\n							\n			\n				\n						\n			\n								\n			\n		\n							\n			\n				\n						\n			\n								\n			\n		\n							\n			\n				\n						\n			\n								\n			\n		\n							\n			\n				\n						\n			\n								\n			\n		\n							\n			\n				\n						\n			\n								\n			\n		\n							\n			\n				\n						\n			\n								\n			\n		\n							\n			\n				\n						\n			\n								\n			\n		\n							\n			\n				\n						\n			\n								\n			\n		\n							\n			\n				\n						\n			\n								\n			\n		\n							\n			\n				\n						\n			\n								\n			\n		\n							\n			\n				\n						\n			\n								\n			\n		\n							\n			\n	\n	\n\n	\n		\n		1\n2\n...\n7\n►
URL:https://parcspassion.org/evenement/week-end-airtime-2009-gardaland-movieland-studios-et-mirabilandia/
LOCATION:Gardaland\, Via Derna\, 4\, Castelnuovo del Garda Verona\, 37014\, Italie
CATEGORIES:WEAT
ATTACH;FMTTYPE=image/jpeg:https://parcspassion.org/wp-content/uploads/2024/06/nggallery_import/image_5245f5d8e8ce7_groupe-airtime.jpg
END:VEVENT
END:VCALENDAR