BEGIN:VCALENDAR
VERSION:2.0
PRODID:-//Parcs Passion - ECPv6.15.17.1//NONSGML v1.0//EN
CALSCALE:GREGORIAN
METHOD:PUBLISH
X-WR-CALNAME:Parcs Passion
X-ORIGINAL-URL:https://parcspassion.org
X-WR-CALDESC:Évènements pour Parcs Passion
REFRESH-INTERVAL;VALUE=DURATION:PT1H
X-Robots-Tag:noindex
X-PUBLISHED-TTL:PT1H
BEGIN:VTIMEZONE
TZID:Europe/Paris
BEGIN:DAYLIGHT
TZOFFSETFROM:+0100
TZOFFSETTO:+0200
TZNAME:CEST
DTSTART:20170326T010000
END:DAYLIGHT
BEGIN:STANDARD
TZOFFSETFROM:+0200
TZOFFSETTO:+0100
TZNAME:CET
DTSTART:20171029T010000
END:STANDARD
BEGIN:DAYLIGHT
TZOFFSETFROM:+0100
TZOFFSETTO:+0200
TZNAME:CEST
DTSTART:20180325T010000
END:DAYLIGHT
BEGIN:STANDARD
TZOFFSETFROM:+0200
TZOFFSETTO:+0100
TZNAME:CET
DTSTART:20181028T010000
END:STANDARD
BEGIN:DAYLIGHT
TZOFFSETFROM:+0100
TZOFFSETTO:+0200
TZNAME:CEST
DTSTART:20190331T010000
END:DAYLIGHT
BEGIN:STANDARD
TZOFFSETFROM:+0200
TZOFFSETTO:+0100
TZNAME:CET
DTSTART:20191027T010000
END:STANDARD
END:VTIMEZONE
BEGIN:VEVENT
DTSTART;VALUE=DATE:20180114
DTEND;VALUE=DATE:20180115
DTSTAMP:20260421T125116
CREATED:20240613T172449Z
LAST-MODIFIED:20240705T122140Z
UID:10000073-1515888000-1515974399@parcspassion.org
SUMMARY:Déjeuner de nouvel an 2018 / Vill’Up Paris
DESCRIPTION:Quoi de mieux pour débuter l’année qu’un déjeuner pour tous se retrouver ? Rendez-vous est pris au restaurant Le Comptoir\, à Vill’Up\, le long de la Cité des Sciences et de l’Industrie. Dans cet antre du fait maison\, viandes\, poissons et salades à la carte se disputent aux deux « Cocottes du jour » : un poisson ou une viande qui changent tous les jours. Quelques burgers sont aussi à la carte pour les fans.\nNon-adhérent\, vous souhaitez nous rejoindre pour ce déjeuner ? Écrivez-nous simplement à contact@parcspassion.org ! \n Après ça\, quoi de mieux que quelques émotions ? Découvrons ensemble Yoo Moov\, le centre de jeux virtuels de Vill’Up\, mis en place par le spécialiste du loisir entre amis Laser Game Evolution. Au programme\, pendant près d’1h30 : cinéma interactif 4D\, simulateur à 360° vous mettant la tête à l’envers\, session de laser game bien sûr\, et la toute dernière nouveauté des lieux : Virtual Lapins Crétins – the Big Maze ! Équipé d’un HTC Vive sur le nez et d’un sac-a-dos ordinateur\, partez combattre les Lapins bien connus dans un dangereux labyrinthe ! \nLe HTC Vive est le meilleur casque de réalité virtuelle du marché\, vous offrant des sensations véritablement vertigineuses. Associé à un ordinateur intégré dans un sac-à-dos\, il vous offre la totale autonomie qui vous permet d’évoluer en liberté dans le labyrinthe. Développé par UbiSoft et la société montréalaise Triotech\, bien connue des parcs d’attractions\, Virtual Lapins Crétins – the Big Maze semble être une des expériences les plus originales de ce que la VR propose aujourd’hui. Et rien de mieux que de découvrir ce genre de choses en groupe.\nAttention\, places limitées ! Pour participer à cette aventure\, cochez l’option lors de votre inscription. \nVous êtes téméraire ? Et pourquoi ne pas finir – ou commencer – la journée par vous envoyer en l’air ? C’est aussi à Vill’Up que vous découvrirez la soufflerie iFly\, vous offrant la possibilité de simuler une chute libre comme si vous vous jetiez dans le vide depuis un avion ! Si vous souhaitez réserver\, avant ou après notre rendez-vous\, jetez un œil sur iFlyFrance.com. Et faites-nous le savoir\, qu’on vienne vous admirer 🙂
URL:https://parcspassion.org/evenement/dejeuner-de-nouvel-an-2018-villup-paris/
LOCATION:Vill’Up Paris\, 30 av Corentin Cariou\, Paris\, 75019\, France
CATEGORIES:Rendez-vous
ATTACH;FMTTYPE=image/jpeg:https://parcspassion.org/wp-content/uploads/2024/06/DejVillUp-rectangle.jpg
END:VEVENT
END:VCALENDAR